BEGIN:VCALENDAR
VERSION:2.0
PRODID:-//DipShit Invitational - ECPv6.15.17.1//NONSGML v1.0//EN
CALSCALE:GREGORIAN
METHOD:PUBLISH
X-WR-CALNAME:DipShit Invitational
X-ORIGINAL-URL:https://dipshitinvitational.com
X-WR-CALDESC:Events for DipShit Invitational
REFRESH-INTERVAL;VALUE=DURATION:PT1H
X-Robots-Tag:noindex
X-PUBLISHED-TTL:PT1H
BEGIN:VTIMEZONE
TZID:America/New_York
BEGIN:DAYLIGHT
TZOFFSETFROM:-0500
TZOFFSETTO:-0400
TZNAME:EDT
DTSTART:20250309T070000
END:DAYLIGHT
BEGIN:STANDARD
TZOFFSETFROM:-0400
TZOFFSETTO:-0500
TZNAME:EST
DTSTART:20251102T060000
END:STANDARD
BEGIN:DAYLIGHT
TZOFFSETFROM:-0500
TZOFFSETTO:-0400
TZNAME:EDT
DTSTART:20260308T070000
END:DAYLIGHT
BEGIN:STANDARD
TZOFFSETFROM:-0400
TZOFFSETTO:-0500
TZNAME:EST
DTSTART:20261101T060000
END:STANDARD
BEGIN:DAYLIGHT
TZOFFSETFROM:-0500
TZOFFSETTO:-0400
TZNAME:EDT
DTSTART:20270314T070000
END:DAYLIGHT
BEGIN:STANDARD
TZOFFSETFROM:-0400
TZOFFSETTO:-0500
TZNAME:EST
DTSTART:20271107T060000
END:STANDARD
END:VTIMEZONE
BEGIN:VEVENT
DTSTART;VALUE=DATE:20260322
DTEND;VALUE=DATE:20260329
DTSTAMP:20260419T234858
CREATED:20260220T152856Z
LAST-MODIFIED:20260220T153428Z
UID:26016737-1774137600-1774742399@dipshitinvitational.com
SUMMARY:DSI Golf Tournament - March 22-28\, 2026
DESCRIPTION:Join the DSI Golf Tournament extravaganza! Experience the buzz everyone is raving about. Enroll now and become a participant in this celebrated sporting event. \nMore event details coming soon…stay posted!
URL:https://dipshitinvitational.com/event/dsi-golf-tournament-march-22-28-2026/
CATEGORIES:DSI Big,Golf Tournament - Orlando
ATTACH;FMTTYPE=image/png:https://dipshitinvitational.com/wp-content/uploads/2024/02/DSI-GOLFING-CLASSIC.png
END:VEVENT
BEGIN:VEVENT
DTSTART;VALUE=DATE:20260407
DTEND;VALUE=DATE:20260408
DTSTAMP:20260419T234858
CREATED:20260220T152148Z
LAST-MODIFIED:20260220T152927Z
UID:26016730-1775520000-1775606399@dipshitinvitational.com
SUMMARY:DSI Dart Duel - April 7\, 2026
DESCRIPTION:The famous DSI Dart Duel event. \nJoin the DSI Dart Duel extravaganza! Experience the buzz everyone is raving about. Enroll now and become a participant in this celebrated sporting event. \nMore event details coming soon…stay posted! \n			\n				\n				\n				\n				\n				\n					\n					\n						\n						Purchase tickets via Cash\, Venmo: @DSIEVENTS\, OR below
URL:https://dipshitinvitational.com/event/dsi-dart-duel-april-7-2026/
CATEGORIES:Dart Duel (Team of 2),DSI Minis
ATTACH;FMTTYPE=image/png:https://dipshitinvitational.com/wp-content/uploads/2023/12/DSI-DART-DUEL.png
END:VEVENT
BEGIN:VEVENT
DTSTART;VALUE=DATE:20260418
DTEND;VALUE=DATE:20260419
DTSTAMP:20260419T234858
CREATED:20260220T153822Z
LAST-MODIFIED:20260220T153826Z
UID:26016748-1776470400-1776556799@dipshitinvitational.com
SUMMARY:DSI Wiffleball Classic - April 18\, 2026
DESCRIPTION:Join us for a day of high-flying catches\, towering home runs\, and heart-stopping plays that will leave you on the edge of your seat! It’s time to unleash your inner slugger and showcase your wiffleball dominance!\n\nSo gather your squad and get ready to bring your A-game to the field! From jaw-dropping catches to clutch hits\, this tournament is something you’ll tell your friends about! \n Don’t miss out on phenomenal day of fun and peak athleticism – secure your spot now and be part of the Wiffleball Classic hype! See you on the field! \n\nMore event details coming soon…stay posted!
URL:https://dipshitinvitational.com/event/dsi-wiffleball-classic-april-18-2026/
CATEGORIES:DSI Big,Wiffleball Classic
ATTACH;FMTTYPE=image/png:https://dipshitinvitational.com/wp-content/uploads/2024/01/DSI-WIFFLEBALL.png
END:VEVENT
BEGIN:VEVENT
DTSTART;VALUE=DATE:20260512
DTEND;VALUE=DATE:20260513
DTSTAMP:20260419T234858
CREATED:20260220T154200Z
LAST-MODIFIED:20260220T154248Z
UID:26016752-1778544000-1778630399@dipshitinvitational.com
SUMMARY:DSI Cornhole Classic - May 12\, 2026
DESCRIPTION:Get ready to toss\, score\, and party like never before at the Cornhole Classic – where the competition is fierce\, the vibes are electric\, and the fun never stops!  \nJoin us for an epic showdown of bean bag supremacy\, where teams go head-to-head in a quest for cornhole glory! With bragging rights and prizes on the line\, you can’t not have a blast! \nSo grab your bags\, gather your squad\, and get ready to make history – where every toss is a chance for greatness! See you on the boards! \nMore event details coming soon…stay posted!
URL:https://dipshitinvitational.com/event/dsi-cornhole-classic-may-12-2026/
CATEGORIES:Cornhole (Team of 2),DSI Big
ATTACH;FMTTYPE=image/png:https://dipshitinvitational.com/wp-content/uploads/2024/02/DSI-CORNHOLE-CLASSIC.png
END:VEVENT
BEGIN:VEVENT
DTSTART;VALUE=DATE:20260606
DTEND;VALUE=DATE:20260607
DTSTAMP:20260419T234858
CREATED:20260220T154643Z
LAST-MODIFIED:20260220T154646Z
UID:26016758-1780704000-1780790399@dipshitinvitational.com
SUMMARY:DSI Beerlympics - June 6\, 2026
DESCRIPTION:The famous DSI Beerlympics. \nJoin the DSI Beerlympics extravaganza! Experience the buzz everyone is raving about. Enroll now and become a participant in this celebrated sporting event. \nMore event details coming soon…stay posted!
URL:https://dipshitinvitational.com/event/dsi-beerlympics-june-6-2026/
CATEGORIES:Beerlympics (Team of 4),DSI Big
ATTACH;FMTTYPE=image/png:https://dipshitinvitational.com/wp-content/uploads/2023/01/beer-mug-06.png
END:VEVENT
END:VCALENDAR