BEGIN:VCALENDAR
VERSION:2.0
PRODID:-//DipShit Invitational - ECPv6.15.17.1//NONSGML v1.0//EN
CALSCALE:GREGORIAN
METHOD:PUBLISH
X-WR-CALNAME:DipShit Invitational
X-ORIGINAL-URL:https://dipshitinvitational.com
X-WR-CALDESC:Events for DipShit Invitational
REFRESH-INTERVAL;VALUE=DURATION:PT1H
X-Robots-Tag:noindex
X-PUBLISHED-TTL:PT1H
BEGIN:VTIMEZONE
TZID:America/New_York
BEGIN:DAYLIGHT
TZOFFSETFROM:-0500
TZOFFSETTO:-0400
TZNAME:EDT
DTSTART:20230312T070000
END:DAYLIGHT
BEGIN:STANDARD
TZOFFSETFROM:-0400
TZOFFSETTO:-0500
TZNAME:EST
DTSTART:20231105T060000
END:STANDARD
BEGIN:DAYLIGHT
TZOFFSETFROM:-0500
TZOFFSETTO:-0400
TZNAME:EDT
DTSTART:20240310T070000
END:DAYLIGHT
BEGIN:STANDARD
TZOFFSETFROM:-0400
TZOFFSETTO:-0500
TZNAME:EST
DTSTART:20241103T060000
END:STANDARD
BEGIN:DAYLIGHT
TZOFFSETFROM:-0500
TZOFFSETTO:-0400
TZNAME:EDT
DTSTART:20250309T070000
END:DAYLIGHT
BEGIN:STANDARD
TZOFFSETFROM:-0400
TZOFFSETTO:-0500
TZNAME:EST
DTSTART:20251102T060000
END:STANDARD
END:VTIMEZONE
BEGIN:VEVENT
DTSTART;TZID=America/New_York:20240427T100000
DTEND;TZID=America/New_York:20240427T100000
DTSTAMP:20260419T183600
CREATED:20240106T235914Z
LAST-MODIFIED:20240412T172252Z
UID:371870-1714212000-1714212000@dipshitinvitational.com
SUMMARY:DSI Wiffleball Classic
DESCRIPTION:Join us for a day of high-flying catches\, towering home runs\, and heart-stopping plays that will leave you on the edge of your seat! It’s time to unleash your inner slugger and showcase your wiffleball dominance!\n\nSo gather your squad and get ready to bring your A-game to the field! From jaw-dropping catches to clutch hits\, this tournament is something you’ll tell your friends about! \n Don’t miss out on phenomenal day of fun and peak athleticism – secure your spot now and be part of the Wiffleball Classic hype! See you on the field! \n\n@Lake Druid Park \n			\n				\n				\n				\n				\n				\n					\n					\n						\n						BYOB (Plastic cups mandatory no glass permitted)\n					\n				\n			\n			\n				\n				\n				\n				\n			\n				\n				\n				\n				\n				\n				\n				\n				\n				\n				\n				\n					\n					\n						\n						Call 407-558-0839 or Email Kevin@dipshitinvitational.com\n \n					\n				\n			\n			\n				\n				\n				\n				\n				\n				\n				\n				\n				\n				\n					\n					\n						\n						\nPay via Cash or Venmo\n@DSIEVENTS\n \n					\n				\n			\n				\n				\n				\n				\n				\n					\n					\n						\n						$100/person OR $200/team
URL:https://dipshitinvitational.com/event/dsi-wiffleball-classic-april-27-2024/
LOCATION:Lake Druid Park\, 899 Coy Dr.\, Orlando\, FL\, 32803\, United States
CATEGORIES:DSI Big,Wiffleball Classic
ATTACH;FMTTYPE=image/png:https://dipshitinvitational.com/wp-content/uploads/2024/01/DSI-WIFFLEBALL.png
END:VEVENT
BEGIN:VEVENT
DTSTART;TZID=America/New_York:20240413T130000
DTEND;TZID=America/New_York:20240413T130000
DTSTAMP:20260419T183600
CREATED:20240219T023730Z
LAST-MODIFIED:20240412T171438Z
UID:25545079-1713013200-1713013200@dipshitinvitational.com
SUMMARY:DSI Cavo's Cornhole Classic Block Party
DESCRIPTION:Get ready to toss\, score\, and party like never before at Cavo’s Cornhole Classic Block Party – where the competition is fierce\, the vibes are electric\, and the fun never stops!  \nJoin us for an epic showdown of bean bag supremacy\, where teams go head-to-head in a quest for cornhole glory! With bragging rights and prizes on the line\, you can’t not have a blast! Picture this: a vibrant block party atmosphere\, live music pumping\, and the sweet sound of cornhole bags hitting the boards! \nSo grab your bags\, gather your squad\, and get ready to make history at Cavo’s Cornhole Classic Block Party – where every toss is a chance for greatness! See you on the boards! \n@Cavos \n			\n			\n				\n				\n				\n				\n			\n				\n				\n				\n				\n				\n				\n				\n				\n				\n				\n				\n					\n					\n						\n						Call 407-558-0839 or Email Kevin@dipshitinvitational.com\n \n					\n				\n			\n			\n				\n				\n				\n				\n				\n				\n				\n				\n				\n				\n					\n					\n						\n						\nPay via Cash or Venmo\n@DSIEVENTS\n \n					\n				\n			\n				\n				\n				\n				\n				\n					\n					\n						\n						$50/person OR $100/team
URL:https://dipshitinvitational.com/event/dsi-cavos-cornhole-classic-block-party-april-13-2024/
LOCATION:Cavo’s Bar & Kitchen\, 900 E Washington St.\, Orlando\, FL\, 32801\, United States
CATEGORIES:Cornhole (Team of 2),DSI Big
ATTACH;FMTTYPE=image/png:https://dipshitinvitational.com/wp-content/uploads/2024/02/DSI-CORNHOLE-CLASSIC.png
END:VEVENT
BEGIN:VEVENT
DTSTART;VALUE=DATE:20240318
DTEND;VALUE=DATE:20240324
DTSTAMP:20260419T183600
CREATED:20240219T022516Z
LAST-MODIFIED:20240222T214928Z
UID:25545069-1710720000-1711238399@dipshitinvitational.com
SUMMARY:DSI Golf Tournament
DESCRIPTION: Attention golfers and swingers of Piss-Missiles! The DipShit Invitational Golf Tournament kicking off on St. Patty’s Day is officially SOLD OUT!  \n Thank you to everyone who secured their spot for this epic event! WE are 24 gladiators strong! Get ready for a day filled with swinging\, sinking putts\, and unforgettable moments on 5 courses! Competition features Captain’s choice and Singles Match Play in Ryder Cup Format! \n For those who missed out\, don’t worry – stay tuned for future tournaments like the DSI Golf – FALL CLASSIC & The DSI Mini Golf Melee ! We can’t wait to tee off with you all again soon! Sign up below to get on the list – We are looking to double the total players in the Fall! Hit ’em Straight! \n@Celebration Golf Club
URL:https://dipshitinvitational.com/event/dsi-golf-tournament-march-18-to-24-2024/
LOCATION:Celebration Golf Club\, 701 Golfpark Dr\, Celebration\, FL\, 34747-4627\, United States
CATEGORIES:DSI Big,Golf Tournament - Orlando
ATTACH;FMTTYPE=image/png:https://dipshitinvitational.com/wp-content/uploads/2024/02/DSI-GOLFING-CLASSIC-SOLD-OUT.png
END:VEVENT
BEGIN:VEVENT
DTSTART;TZID=America/New_York:20240306T190000
DTEND;TZID=America/New_York:20240306T190000
DTSTAMP:20260419T183600
CREATED:20231219T022916Z
LAST-MODIFIED:20240222T175637Z
UID:371216-1709751600-1709751600@dipshitinvitational.com
SUMMARY:DSI Corner Pocket Classic
DESCRIPTION:Get ready to break\, bank\, and dominate the felt at the Corner Pocket Classic Pool Tournament – where legends are made and champions rise!  \nFrom precision breaks to jaw-dropping bank shots\, this tournament is a showcase of skill\, strategy\, and sheer competition! Are you ready to show off your mastery of the felt? \nDon’t miss your shot at billiards glory – secure your spot now and prepare to leave your mark on the felt! See you at the tables! \n@Burton’s Thornton Park \n			\n				\n				\n				\n				\n				\n					\n					\n						\n						Purchase tickets via Cash or Venmo: @DSIEVENTS
URL:https://dipshitinvitational.com/event/dsi-corner-pocket-classic-march-6-2024/
LOCATION:Burton’s Thornton Park\, 801 E Washington St\, Orlando\, FL\, 32801\, United States
CATEGORIES:Corner Pocket Classic,DSI Minis
ATTACH;FMTTYPE=image/png:https://dipshitinvitational.com/wp-content/uploads/2023/12/DSI-CORNER-POCKET-CLASSIC.png
END:VEVENT
BEGIN:VEVENT
DTSTART;TZID=America/New_York:20240222T190000
DTEND;TZID=America/New_York:20240222T190000
DTSTAMP:20260419T183600
CREATED:20240219T015557Z
LAST-MODIFIED:20240222T175414Z
UID:25545046-1708628400-1708628400@dipshitinvitational.com
SUMMARY:DSI Dart Duel 2
DESCRIPTION:Get ready to unleash your inner sharpshooter at the most electrifying dart tournament of the month!  Join us for an adrenaline-fueled showdown where precision meets excitement and champions are born! It’s time to step up your game\, aim for glory\, and let your darts do the talking! \nSo grab your darts\, channel your inner focus\, and get ready to ignite the board with your skill and precision! The Dart Duel hype is real\, and the stage is set for an epic showdown. Don’t miss out on the excitement – secure your spot now and let’s make this tournament one to remember! \n@The Porch Winter Park \n			\n				\n				\n				\n				\n				\n					\n					\n						\n						INCLUDES 2 FREE DRINK TICKETS \n					\n				\n			\n				\n				\n				\n				\n				\n					\n					\n						\n						$150 CASH PRIZE TO THE WINNING TEAM! \n					\n				\n			\n				\n				\n				\n				\n				\n					\n					\n						\n						Call 407-558-0839 or Email Kevin@dipshitinvitational.comPay via Cash or Venmo: @DSIEVENTS
URL:https://dipshitinvitational.com/event/dsi-dart-duel-feb-22-2024/
LOCATION:The Porch Winter Park\, N Orange Ave\, Winter Park\, FL\, 32789\, United States
CATEGORIES:Dart Duel (Team of 2),DSI Minis
ATTACH;FMTTYPE=image/png:https://dipshitinvitational.com/wp-content/uploads/2023/12/DSI-DART-DUEL.png
END:VEVENT
BEGIN:VEVENT
DTSTART;TZID=America/New_York:20240204T140000
DTEND;TZID=America/New_York:20240204T140000
DTSTAMP:20260419T183600
CREATED:20231218T200031Z
LAST-MODIFIED:20240123T003327Z
UID:371152-1707055200-1707055200@dipshitinvitational.com
SUMMARY:DSI Rho Sham Bro
DESCRIPTION:(No Football) This is a sample DSI Rho Sham Bro event we have created as a placeholder for an event. Actual event and details will be announced soon. Please keep checking back. \n			\n				\n				\n				\n				\n				\n					\n					\n						\n						INCLUDES A BEER AND A SHOT AT CAVO’S\n					\n				\n			\n				\n				\n				\n				\n				\n					\n					\n						\n						$150 CASH PRIZE!\n					\n				\n			\n				\n				\n				\n				\n				\n					\n					\n						\n						Purchase tickets via Cash\, Venmo: @DSIEVENTS\, OR below
URL:https://dipshitinvitational.com/event/dsi-rho-sham-bro-february-4-2024/
LOCATION:Cavo’s Bar & Kitchen\, 900 E Washington St.\, Orlando\, FL\, 32801\, United States
CATEGORIES:DSI Minis,Rho Sham Bro
ATTACH;FMTTYPE=image/png:https://dipshitinvitational.com/wp-content/uploads/2023/12/DSI-RHO-SHAM-BRO.png
END:VEVENT
BEGIN:VEVENT
DTSTART;TZID=America/New_York:20240124T190000
DTEND;TZID=America/New_York:20240124T190000
DTSTAMP:20260419T183600
CREATED:20231218T195536Z
LAST-MODIFIED:20240123T003257Z
UID:371148-1706122800-1706122800@dipshitinvitational.com
SUMMARY:DSI Dart Duel
DESCRIPTION:The famous DSI Dart Duel event. \nJoin the DSI Dart Duel extravaganza! Experience the buzz everyone is raving about. Enroll now and become a participant in this celebrated sporting event. \n@Burton’s and Cavo’s\n			\n				\n				\n				\n				\n				\n					\n					\n						\n						INCLUDES A BEER AND A SHOT AT BOTH LOCATIONS\n					\n				\n			\n				\n				\n				\n				\n				\n					\n					\n						\n						$150 CASH PRIZE!\n					\n				\n			\n				\n				\n				\n				\n				\n					\n					\n						\n						Purchase tickets via Cash\, Venmo: @DSIEVENTS\, OR below
URL:https://dipshitinvitational.com/event/dsi-dart-duel-jan-24-2024/
LOCATION:Burton’s Thornton Park and Cavo’s Bar & Kitchen\, 801 E Washington St\, Orlando\, FL\, 32801\, United States
CATEGORIES:Dart Duel (Team of 2),DSI Minis
ATTACH;FMTTYPE=image/png:https://dipshitinvitational.com/wp-content/uploads/2023/12/DSI-DART-DUEL.png
END:VEVENT
END:VCALENDAR