BEGIN:VCALENDAR
VERSION:2.0
PRODID:-//DipShit Invitational - ECPv6.15.17.1//NONSGML v1.0//EN
CALSCALE:GREGORIAN
METHOD:PUBLISH
X-WR-CALNAME:DipShit Invitational
X-ORIGINAL-URL:https://dipshitinvitational.com
X-WR-CALDESC:Events for DipShit Invitational
REFRESH-INTERVAL;VALUE=DURATION:PT1H
X-Robots-Tag:noindex
X-PUBLISHED-TTL:PT1H
BEGIN:VTIMEZONE
TZID:America/New_York
BEGIN:DAYLIGHT
TZOFFSETFROM:-0500
TZOFFSETTO:-0400
TZNAME:EDT
DTSTART:20230312T070000
END:DAYLIGHT
BEGIN:STANDARD
TZOFFSETFROM:-0400
TZOFFSETTO:-0500
TZNAME:EST
DTSTART:20231105T060000
END:STANDARD
BEGIN:DAYLIGHT
TZOFFSETFROM:-0500
TZOFFSETTO:-0400
TZNAME:EDT
DTSTART:20240310T070000
END:DAYLIGHT
BEGIN:STANDARD
TZOFFSETFROM:-0400
TZOFFSETTO:-0500
TZNAME:EST
DTSTART:20241103T060000
END:STANDARD
BEGIN:DAYLIGHT
TZOFFSETFROM:-0500
TZOFFSETTO:-0400
TZNAME:EDT
DTSTART:20250309T070000
END:DAYLIGHT
BEGIN:STANDARD
TZOFFSETFROM:-0400
TZOFFSETTO:-0500
TZNAME:EST
DTSTART:20251102T060000
END:STANDARD
END:VTIMEZONE
BEGIN:VEVENT
DTSTART;TZID=America/New_York:20240427T100000
DTEND;TZID=America/New_York:20240427T100000
DTSTAMP:20260420T192723
CREATED:20240106T235914Z
LAST-MODIFIED:20240412T172252Z
UID:371870-1714212000-1714212000@dipshitinvitational.com
SUMMARY:DSI Wiffleball Classic
DESCRIPTION:Join us for a day of high-flying catches\, towering home runs\, and heart-stopping plays that will leave you on the edge of your seat! It’s time to unleash your inner slugger and showcase your wiffleball dominance!\n\nSo gather your squad and get ready to bring your A-game to the field! From jaw-dropping catches to clutch hits\, this tournament is something you’ll tell your friends about! \n Don’t miss out on phenomenal day of fun and peak athleticism – secure your spot now and be part of the Wiffleball Classic hype! See you on the field! \n\n@Lake Druid Park \n			\n				\n				\n				\n				\n				\n					\n					\n						\n						BYOB (Plastic cups mandatory no glass permitted)\n					\n				\n			\n			\n				\n				\n				\n				\n			\n				\n				\n				\n				\n				\n				\n				\n				\n				\n				\n				\n					\n					\n						\n						Call 407-558-0839 or Email Kevin@dipshitinvitational.com\n \n					\n				\n			\n			\n				\n				\n				\n				\n				\n				\n				\n				\n				\n				\n					\n					\n						\n						\nPay via Cash or Venmo\n@DSIEVENTS\n \n					\n				\n			\n				\n				\n				\n				\n				\n					\n					\n						\n						$100/person OR $200/team
URL:https://dipshitinvitational.com/event/dsi-wiffleball-classic-april-27-2024/
LOCATION:Lake Druid Park\, 899 Coy Dr.\, Orlando\, FL\, 32803\, United States
CATEGORIES:DSI Big,Wiffleball Classic
ATTACH;FMTTYPE=image/png:https://dipshitinvitational.com/wp-content/uploads/2024/01/DSI-WIFFLEBALL.png
END:VEVENT
END:VCALENDAR